BEGIN:VCALENDAR
PRODID:NingEventWidget-v1
VERSION:2.0
METHOD:PUBLISH
BEGIN:VTIMEZONE
TZID:America/Los_Angeles
X-LIC-LOCATION:America/Los_Angeles
BEGIN:DAYLIGHT
TZOFFSETFROM:-0800
TZOFFSETTO:-0700
TZNAME:PDT
DTSTART:19700308T020000
RRULE:FREQ=YEARLY;BYMONTH=3;BYDAY=2SU
END:DAYLIGHT
BEGIN:STANDARD
TZOFFSETFROM:-0700
TZOFFSETTO:-0800
TZNAME:PST
DTSTART:19701101T020000
RRULE:FREQ=YEARLY;BYMONTH=11;BYDAY=1SU
END:STANDARD
END:VTIMEZONE
BEGIN:VEVENT
UID:2227378:Event:44653
DTSTAMP:20260424T001904Z
SUMMARY:Wednesday morning Chakra Girl Radio
DESCRIPTION:News!\n-Book Release, update on testimonial request\n-Anno
 uncing \"Ask Chakra Girl\" column\n-This week on Chakra Girl Radio\n\n
 So close...to releasing my first book! The official title is\nBreak/Th
 rough: Healing Obesity, Debt, and Depression One Chakra at a Time\nIt 
 is just about, absolutely, positively, almost, nearly finished. :) All
  the writing is done. Nearly all the designing is done. All's left is 
 tying up loose ends and there aren't very many of them. There will be 
 a separate email announcing the good news...keep an eye out!\n\nFor th
 ose who offered to write testimonials, thank you!!! I have received a 
 number of them and am happily awaiting the arrival of any others. Even
  if they don't make it in time for the book release, definitely send t
 hem along b/c I will be able to use them in promos, on the blog, and i
 n subsequent editions of the book. I am so grateful for all the glowin
 g support!\n\nAlso, I am debuting a new column on my blog ( http://www
 .chakra-girl.com ), called \"Ask Chakra Girl\". Initially, it will be 
 posted once a week. Questions are welcome! Topics can include: Chakras
 , intuition, and how energy imbalances manifest in relationships, work
 /domestic situations, emotions, behaviors, physical illnesses, and any
  number of other things. If you have a question but aren't sure if it'
 ll fit, try me! :)\n\nFinally, tomorrow morning on Chakra Girl Radio (
 CGR - http://www.blogtalkradio.com/chakra-girl ) I will be talking abo
 ut the Solar Plexus - the Chakrum of personal power - in context of ho
 w energy acceleration (Mayan Calendar/2012) is affecting each of our j
 ourneys of empowerment. I have posted a story about related issues in 
 my energy body on my blog, found here.\n\nJoin me live, if you can, or
  24/7 in the archives (available in moments after the live show is rec
 orded) -\nhttp://www.blogtalkradio.com/chakra-girl\n9-10:30 a.m. PST /
  12-1:30 p.m. EST / 17-18:30 GMT\n\nIn Lak'ech (Mayan for \"I am anoth
 er yourself\"),\n\nKatie\naka Chakra Girl\n\nFor more information visi
 t https://architectsofanewdawn.ning.com/events/wednesday-morning-chakr
 a-girl
DTSTART;TZID=America/Los_Angeles:20090304T090000
DTEND;TZID=America/Los_Angeles:20090304T103000
CATEGORIES:internet, radio, show
LOCATION:http://www.blogtalkradio.com/chakra-girl
WEBSITE:http://www.chakra-girl.com
URL:http://www.chakra-girl.com
CONTACT:
ORGANIZER;CN="Katie aka Chakra Girl":https://architectsofanewdawn.ning
 .com/profile/ChakraGirl
ATTACH;FMTTYPE="image/jpeg":
ATTENDEE;ROLE=REQ-PARTICIPANT;PARTSTAT=ACCEPTED;RSVP=TRUE;CN="Katie ak
 a Chakra Girl":https://architectsofanewdawn.ning.com/profile/ChakraGir
 l
END:VEVENT
END:VCALENDAR
